BEGIN:VCALENDAR
VERSION:2.0
PRODID:-//Tukios.com/
BEGIN:VEVENT
UID:8a0dfa70-95e8-4859-8098-0e5219f19607@www.nalderfuneralhome.com
DTSTAMP:20260421T004437Z
DTSTART:20260424T000000Z
DTEND:20260424T020000Z
SUMMARY:Viewing
DESCRIPTION:
URL:https://www.nalderfuneralhome.com/obituaries/chris-nelson
LOCATION: 110 W Oak St  Shelley ID 83274
GEO:43.3845643;-112.1238951
END:VEVENT
END:VCALENDAR