BEGIN:VCALENDAR
VERSION:2.0
PRODID:-//Tukios.com/
BEGIN:VEVENT
UID:988f55dc-4b17-4246-9026-8fcfa6c1f8a8@www.nalderfuneralhome.com
DTSTAMP:20260421T004402Z
DTSTART:20260424T153000Z
DTEND:20260424T164500Z
SUMMARY:Visitation
DESCRIPTION:
URL:https://www.nalderfuneralhome.com/obituaries/chris-nelson
LOCATION: 1555 North 700 East  Shelley ID 83274
GEO:43.4182389;-112.1415795
END:VEVENT
END:VCALENDAR