BEGIN:VCALENDAR
VERSION:2.0
PRODID:-//Tukios.com/
BEGIN:VEVENT
UID:1f7cb051-0942-4fb1-ae9d-e95b096712b8@www.nalderfuneralhome.com
DTSTAMP:20260421T004402Z
DTSTART:20260424T170000Z
DTEND:20260424T180000Z
SUMMARY:Funeral Service
DESCRIPTION:
URL:https://www.nalderfuneralhome.com/obituaries/chris-nelson
LOCATION: 1555 North 700 East  Shelley ID 83274
GEO:43.4182389;-112.1415795
END:VEVENT
END:VCALENDAR