BEGIN:VCALENDAR
VERSION:2.0
PRODID:-//Tukios.com/
BEGIN:VEVENT
UID:45dc2973-3e5f-4b08-90f5-6b8f676ea522@www.nalderfuneralhome.com
DTSTAMP:20260424T022618Z
DTSTART:20260428T170000Z
DTEND:20260428T180000Z
SUMMARY:Graveside Service
DESCRIPTION:
URL:https://www.nalderfuneralhome.com/obituaries/guy-robinson
LOCATION:Shelley Hillcrest Cemetery 785 East 1200 North  Shelley ID 83274
GEO:43.3669161;-112.1268492
END:VEVENT
END:VCALENDAR