BEGIN:VCALENDAR
VERSION:2.0
PRODID:-//Tukios.com/
BEGIN:VEVENT
UID:9cf8eaed-cf4a-44b9-b0fc-96cbebcf4a9a@www.nalderfuneralhome.com
DTSTAMP:20260424T023359Z
DTSTART:20260428T000000Z
DTEND:20260428T013000Z
SUMMARY:Visitation
DESCRIPTION:
URL:https://www.nalderfuneralhome.com/obituaries/guy-robinson
LOCATION: 110 W Oak St  Shelley ID 83274
GEO:43.3845643;-112.1238951
END:VEVENT
END:VCALENDAR