BEGIN:VCALENDAR
VERSION:2.0
PRODID:-//Tukios.com/
BEGIN:VEVENT
UID:5c7a7da8-180a-4b7c-b396-84d72ad833bc@www.nalderfuneralhome.com
DTSTAMP:20260421T083816Z
DTSTART:20260228T010000Z
DTEND:20260228T023000Z
SUMMARY:Visitation
DESCRIPTION:
URL:https://www.nalderfuneralhome.com/obituaries/loma-hunter
LOCATION: 110 W Oak St  Shelley ID 83274
GEO:43.3845643;-112.1238951
END:VEVENT
END:VCALENDAR