BEGIN:VCALENDAR
VERSION:2.0
PRODID:-//Tukios.com/
BEGIN:VEVENT
UID:e1cd39f5-beb9-491e-a4be-87bd29bbba52@www.nalderfuneralhome.com
DTSTAMP:20260425T011551Z
DTSTART:20260502T153000Z
DTEND:20260502T164500Z
SUMMARY:Visitation
DESCRIPTION:
URL:https://www.nalderfuneralhome.com/obituaries/pearl-stewart
LOCATION: 110 W Oak St  Shelley ID 83274
GEO:43.3845643;-112.1238951
END:VEVENT
END:VCALENDAR