BEGIN:VCALENDAR
VERSION:2.0
PRODID:-//Tukios.com/
BEGIN:VEVENT
UID:39724c84-5b77-4f03-be4a-74823704b02c@www.nalderfuneralhome.com
DTSTAMP:20260425T011848Z
DTSTART:20260502T170000Z
DTEND:20260502T180000Z
SUMMARY:Funeral Service
DESCRIPTION:
URL:https://www.nalderfuneralhome.com/obituaries/pearl-stewart
LOCATION: 110 W Oak St  Shelley ID 83274
GEO:43.3845643;-112.1238951
END:VEVENT
END:VCALENDAR