BEGIN:VCALENDAR
VERSION:2.0
PRODID:-//Tukios.com/
BEGIN:VEVENT
UID:083234c3-8827-4381-8f49-0c7216393ee5@www.nalderfuneralhome.com
DTSTAMP:20260425T011642Z
DTSTART:20260502
SUMMARY:Interment
DESCRIPTION:
URL:https://www.nalderfuneralhome.com/obituaries/pearl-stewart
LOCATION: 793 E 1200 N  Shelley ID 83274
GEO:43.3666854;-112.1286646
END:VEVENT
END:VCALENDAR